BEGIN:VCALENDAR
VERSION:2.0
PRODID:-//Kompetenznetzwerk Bibliometrie - ECPv6.15.3//NONSGML v1.0//EN
CALSCALE:GREGORIAN
METHOD:PUBLISH
X-ORIGINAL-URL:https://bibliometrie.info/en/
X-WR-CALDESC:Events for Kompetenznetzwerk Bibliometrie
REFRESH-INTERVAL;VALUE=DURATION:PT1H
X-Robots-Tag:noindex
X-PUBLISHED-TTL:PT1H
BEGIN:VTIMEZONE
TZID:Europe/Berlin
BEGIN:DAYLIGHT
TZOFFSETFROM:+0100
TZOFFSETTO:+0200
TZNAME:CEST
DTSTART:20240331T010000
END:DAYLIGHT
BEGIN:STANDARD
TZOFFSETFROM:+0200
TZOFFSETTO:+0100
TZNAME:CET
DTSTART:20241027T010000
END:STANDARD
END:VTIMEZONE
BEGIN:VEVENT
DTSTART;TZID=Europe/Berlin:20240924T150000
DTEND;TZID=Europe/Berlin:20240924T160000
DTSTAMP:20260420T165032
CREATED:20240917T090914Z
LAST-MODIFIED:20240925T133351Z
UID:3014-1727190000-1727193600@bibliometrie.info
SUMMARY:Open Research Seminar – Where is the Red AI research? Finding the Environmental Impacts of Artificial Intelligence
DESCRIPTION:Alan Porter\, Direc­tor of R&D\, Search Technol­o­gy\, Inc.\, Profes­sor Emeri­tus of Indus­tri­al & Systems Engineer­ing\, and of Public Policy\, Georgia Tech\, USA
URL:https://bibliometrie.info/en/event/open-research-seminar-where-is-the-red-ai-research-finding-the-environmental-impacts-of-artificial-intelligence/
CATEGORIES:Forschungsseminar,Webinar
END:VEVENT
END:VCALENDAR