BEGIN:VCALENDAR
VERSION:2.0
PRODID:-//Kompetenznetzwerk Bibliometrie - ECPv6.15.3//NONSGML v1.0//EN
CALSCALE:GREGORIAN
METHOD:PUBLISH
X-WR-CALNAME:Kompetenznetzwerk Bibliometrie
X-ORIGINAL-URL:https://bibliometrie.info/en/
X-WR-CALDESC:Events for Kompetenznetzwerk Bibliometrie
REFRESH-INTERVAL;VALUE=DURATION:PT1H
X-Robots-Tag:noindex
X-PUBLISHED-TTL:PT1H
BEGIN:VTIMEZONE
TZID:Europe/Berlin
BEGIN:DAYLIGHT
TZOFFSETFROM:+0100
TZOFFSETTO:+0200
TZNAME:CEST
DTSTART:20240331T010000
END:DAYLIGHT
BEGIN:STANDARD
TZOFFSETFROM:+0200
TZOFFSETTO:+0100
TZNAME:CET
DTSTART:20241027T010000
END:STANDARD
END:VTIMEZONE
BEGIN:VEVENT
DTSTART;VALUE=DATE:20240902
DTEND;VALUE=DATE:20240907
DTSTAMP:20260420T151605
CREATED:20231023T141546Z
LAST-MODIFIED:20240603T115618Z
UID:2583-1725235200-1725667199@bibliometrie.info
SUMMARY:European summer school for scientometrics (ESSS)
DESCRIPTION:The esss provides train­ing and state-of the art insight into scien­to­met­rics with the corre­spond­ing methods\, proce­dures\, indica­tors as well as the avail­able database products for scien­to­met­ric analy­ses. The program combines theoret­i­cal knowl­edge and its practi­cal appli­ca­tion in various contexts ranging from research to the provi­sion of scien­tif­ic policy advice to research evaluation.\n\nRegis­tra­tion
URL:https://bibliometrie.info/en/event/european-summer-school-for-scientometrics-esss/
CATEGORIES:Summer School
END:VEVENT
END:VCALENDAR