BEGIN:VCALENDAR
VERSION:2.0
PRODID:-//Kompetenznetzwerk Bibliometrie - ECPv6.15.3//NONSGML v1.0//EN
CALSCALE:GREGORIAN
METHOD:PUBLISH
X-ORIGINAL-URL:https://bibliometrie.info/en/
X-WR-CALDESC:Events for Kompetenznetzwerk Bibliometrie
REFRESH-INTERVAL;VALUE=DURATION:PT1H
X-Robots-Tag:noindex
X-PUBLISHED-TTL:PT1H
BEGIN:VTIMEZONE
TZID:Europe/Berlin
BEGIN:DAYLIGHT
TZOFFSETFROM:+0100
TZOFFSETTO:+0200
TZNAME:CEST
DTSTART:20240331T010000
END:DAYLIGHT
BEGIN:STANDARD
TZOFFSETFROM:+0200
TZOFFSETTO:+0100
TZNAME:CET
DTSTART:20241027T010000
END:STANDARD
END:VTIMEZONE
BEGIN:VEVENT
DTSTART;TZID=Europe/Berlin:20240618T150000
DTEND;TZID=Europe/Berlin:20240618T160000
DTSTAMP:20260420T215738
CREATED:20240527T110520Z
LAST-MODIFIED:20240701T121353Z
UID:2906-1718722800-1718726400@bibliometrie.info
SUMMARY:Open research seminar - Challenges of paper mills and the commercialization of scientific misconduct
DESCRIPTION:Dr. Anna Abalk­i­na\, research fellow at the Insti­tute for East European Studies of the Freie Univer­sität Berlin\, Germany
URL:https://bibliometrie.info/en/event/open-research-seminar/
CATEGORIES:Forschungsseminar,Webinar
END:VEVENT
END:VCALENDAR