BEGIN:VCALENDAR
VERSION:2.0
PRODID:-//Kompetenznetzwerk Bibliometrie - ECPv6.15.3//NONSGML v1.0//EN
CALSCALE:GREGORIAN
METHOD:PUBLISH
X-ORIGINAL-URL:https://bibliometrie.info
X-WR-CALDESC:Veranstaltungen für Kompetenznetzwerk Bibliometrie
REFRESH-INTERVAL;VALUE=DURATION:PT1H
X-Robots-Tag:noindex
X-PUBLISHED-TTL:PT1H
BEGIN:VTIMEZONE
TZID:Europe/Berlin
BEGIN:DAYLIGHT
TZOFFSETFROM:+0100
TZOFFSETTO:+0200
TZNAME:CEST
DTSTART:20230326T010000
END:DAYLIGHT
BEGIN:STANDARD
TZOFFSETFROM:+0200
TZOFFSETTO:+0100
TZNAME:CET
DTSTART:20231029T010000
END:STANDARD
END:VTIMEZONE
BEGIN:VEVENT
DTSTART;VALUE=DATE:20231106
DTEND;VALUE=DATE:20231108
DTSTAMP:20260424T203841
CREATED:20250505T182536Z
LAST-MODIFIED:20250505T192711Z
UID:2487-1699228800-1699401599@bibliometrie.info
SUMMARY:2. Netzwerktreffen 2023: "Classifications and classifying of subjects and fields"
DESCRIPTION:Das Event findet digital statt.
URL:https://bibliometrie.info/event/2-netzwerktreffen-2023/
CATEGORIES:Netzwerktreffen
END:VEVENT
BEGIN:VEVENT
DTSTART;TZID=Europe/Berlin:20231114T140000
DTEND;TZID=Europe/Berlin:20231114T150000
DTSTAMP:20260424T203841
CREATED:20231019T124730Z
LAST-MODIFIED:20231114T145030Z
UID:2571-1699970400-1699974000@bibliometrie.info
SUMMARY:Effects of doctoral publication requirements on the research output of Ukrainian academics in Scopus
DESCRIPTION:Myros­la­va Hladchen­ko\, Centre for Science and Techno­lo­gy Studies (CWTS)\, Leiden\, The Netherlands
URL:https://bibliometrie.info/event/effects-of-doctoral-publication-requirements-on-the-research-output-of-ukrainian-academics-in-scopus/
CATEGORIES:Forschungsseminar,Webinar
END:VEVENT
BEGIN:VEVENT
DTSTART;TZID=Europe/Berlin:20231122T090000
DTEND;TZID=Europe/Berlin:20231122T120000
DTSTAMP:20260424T203841
CREATED:20230814T071503Z
LAST-MODIFIED:20230814T072350Z
UID:2469-1700643600-1700654400@bibliometrie.info
SUMMARY:2. Konsortialversammlung 2023
DESCRIPTION:
URL:https://bibliometrie.info/event/kb-konsortialversammlung-2/
CATEGORIES:Intern
END:VEVENT
END:VCALENDAR