BEGIN:VCALENDAR
VERSION:2.0
PRODID:-//Kompetenznetzwerk Bibliometrie - ECPv6.15.3//NONSGML v1.0//EN
CALSCALE:GREGORIAN
METHOD:PUBLISH
X-WR-CALNAME:Kompetenznetzwerk Bibliometrie
X-ORIGINAL-URL:https://bibliometrie.info
X-WR-CALDESC:Veranstaltungen für Kompetenznetzwerk Bibliometrie
REFRESH-INTERVAL;VALUE=DURATION:PT1H
X-Robots-Tag:noindex
X-PUBLISHED-TTL:PT1H
BEGIN:VTIMEZONE
TZID:Europe/Berlin
BEGIN:DAYLIGHT
TZOFFSETFROM:+0100
TZOFFSETTO:+0200
TZNAME:CEST
DTSTART:20230326T010000
END:DAYLIGHT
BEGIN:STANDARD
TZOFFSETFROM:+0200
TZOFFSETTO:+0100
TZNAME:CET
DTSTART:20231029T010000
END:STANDARD
END:VTIMEZONE
BEGIN:VEVENT
DTSTART;VALUE=DATE:20230706
DTEND;VALUE=DATE:20230707
DTSTAMP:20260422T144708
CREATED:20230608T112843Z
LAST-MODIFIED:20230617T044109Z
UID:2349-1688601600-1688687999@bibliometrie.info
SUMMARY:KB Beiratssitzung
DESCRIPTION:
URL:https://bibliometrie.info/event/kb-beiratssitzung/
CATEGORIES:Intern
END:VEVENT
END:VCALENDAR