BEGIN:VCALENDAR
VERSION:2.0
PRODID:-//Kompetenznetzwerk Bibliometrie - ECPv6.15.3//NONSGML v1.0//EN
CALSCALE:GREGORIAN
METHOD:PUBLISH
X-ORIGINAL-URL:https://bibliometrie.info
X-WR-CALDESC:Veranstaltungen für Kompetenznetzwerk Bibliometrie
REFRESH-INTERVAL;VALUE=DURATION:PT1H
X-Robots-Tag:noindex
X-PUBLISHED-TTL:PT1H
BEGIN:VTIMEZONE
TZID:Europe/Berlin
BEGIN:DAYLIGHT
TZOFFSETFROM:+0100
TZOFFSETTO:+0200
TZNAME:CEST
DTSTART:20230326T010000
END:DAYLIGHT
BEGIN:STANDARD
TZOFFSETFROM:+0200
TZOFFSETTO:+0100
TZNAME:CET
DTSTART:20231029T010000
END:STANDARD
END:VTIMEZONE
BEGIN:VEVENT
DTSTART;TZID=Europe/Berlin:20230606T090000
DTEND;TZID=Europe/Berlin:20230606T150000
DTSTAMP:20260422T132743
CREATED:20230411T113020Z
LAST-MODIFIED:20230616T151342Z
UID:2146-1686042000-1686063600@bibliometrie.info
SUMMARY:Q-KNOW Abschlussveranstaltung „Organisationen und Kooperation“
DESCRIPTION:
URL:https://bibliometrie.info/event/data-driven-foresight-helfen-publikations-daten-die-zukunft-vorherzusagen-2/
CATEGORIES:Ankündigung
END:VEVENT
BEGIN:VEVENT
DTSTART;TZID=Europe/Berlin:20230607T140000
DTEND;TZID=Europe/Berlin:20230607T150000
DTSTAMP:20260422T132743
CREATED:20230510T073058Z
LAST-MODIFIED:20230815T113306Z
UID:2274-1686146400-1686150000@bibliometrie.info
SUMMARY:Analysis of France’s scientific publications from different perspectives
DESCRIPTION:Dr. Frede­ri­que Sachwald\, Science and Techno­lo­gy Obser­va­to­ry (OST)\, Paris\, France
URL:https://bibliometrie.info/event/tbd/
CATEGORIES:Forschungsseminar,Webinar
END:VEVENT
BEGIN:VEVENT
DTSTART;TZID=Europe/Berlin:20230615T110000
DTEND;TZID=Europe/Berlin:20230615T110000
DTSTAMP:20260422T132743
CREATED:20230607T090430Z
LAST-MODIFIED:20230811T075207Z
UID:2299-1686826800-1686826800@bibliometrie.info
SUMMARY:„Das LIBER Open Science Skills-Modell“\, Helene Strauß (TIB Hannover)
DESCRIPTION:  \nDer Vortrag fand virtu­ell statt.
URL:https://bibliometrie.info/event/zweiter-kb-elsevier-workshop-data-processing-and-harmonisation-2/
CATEGORIES:Ankündigung
END:VEVENT
BEGIN:VEVENT
DTSTART;TZID=Europe/Berlin:20230619T130000
DTEND;TZID=Europe/Berlin:20230619T160000
DTSTAMP:20260422T132743
CREATED:20230608T112040Z
LAST-MODIFIED:20230617T044210Z
UID:2340-1687179600-1687190400@bibliometrie.info
SUMMARY:KB Konsortialversammlung
DESCRIPTION:
URL:https://bibliometrie.info/event/kb-konsortialversammlung/
CATEGORIES:Intern
END:VEVENT
BEGIN:VEVENT
DTSTART;TZID=Europe/Berlin:20230622T110000
DTEND;TZID=Europe/Berlin:20230622T110000
DTSTAMP:20260422T132743
CREATED:20230607T091125Z
LAST-MODIFIED:20230811T074759Z
UID:2305-1687431600-1687431600@bibliometrie.info
SUMMARY:„Aufgaben und Kompetenzen in der IT-gestützten Forschungsberichterstattung – Vorstellung und Anwendung eines tätigkeitsbasierten Kompetenzmodells“\, Sabrina Petersohn (DZHW Berlin)
DESCRIPTION:  \nDer Vortrag fand virtu­ell statt.
URL:https://bibliometrie.info/event/aufgaben-und-kompetenzen-in-der-it-gestuetzten-forschungsberichterstattung-vorstellung-und-anwendung-eines-taetigkeitsbasierten-kompetenzmodells-sabrina-petersohn-dzhw-be/
CATEGORIES:Ankündigung
END:VEVENT
BEGIN:VEVENT
DTSTART;TZID=Europe/Berlin:20230629T110000
DTEND;TZID=Europe/Berlin:20230629T110000
DTSTAMP:20260422T132743
CREATED:20230607T091527Z
LAST-MODIFIED:20230807T132423Z
UID:2308-1688036400-1688036400@bibliometrie.info
SUMMARY:„Evaluativ\, Explorativ\, Kurativ\, Reflexiv - Ein fallbasiertes modulares Kompetenzmodell für die Weiterbildung in der Bibliometrie“\, Stephan Gauch (HU Berlin)
DESCRIPTION:
URL:https://bibliometrie.info/event/evaluativ-explorativ-kurativ-reflexiv-ein-fallbasiertes-modulares-kompetenzmodell-fuer-die-weiterbildung-in-der-bibliometrie-stephan-gauch-hu-berlin/
CATEGORIES:Ankündigung
END:VEVENT
END:VCALENDAR