BEGIN:VCALENDAR
VERSION:2.0
PRODID:-//Kompetenznetzwerk Bibliometrie - ECPv6.15.3//NONSGML v1.0//EN
CALSCALE:GREGORIAN
METHOD:PUBLISH
X-WR-CALNAME:Kompetenznetzwerk Bibliometrie
X-ORIGINAL-URL:https://bibliometrie.info
X-WR-CALDESC:Veranstaltungen für Kompetenznetzwerk Bibliometrie
REFRESH-INTERVAL;VALUE=DURATION:PT1H
X-Robots-Tag:noindex
X-PUBLISHED-TTL:PT1H
BEGIN:VTIMEZONE
TZID:Europe/Berlin
BEGIN:DAYLIGHT
TZOFFSETFROM:+0100
TZOFFSETTO:+0200
TZNAME:CEST
DTSTART:20260329T010000
END:DAYLIGHT
BEGIN:STANDARD
TZOFFSETFROM:+0200
TZOFFSETTO:+0100
TZNAME:CET
DTSTART:20261025T010000
END:STANDARD
END:VTIMEZONE
BEGIN:VEVENT
DTSTART;TZID=Europe/Berlin:20260528T080000
DTEND;TZID=Europe/Berlin:20260529T170000
DTSTAMP:20260422T133153
CREATED:20251103T092215Z
LAST-MODIFIED:20251103T095946Z
UID:6008-1779955200-1780074000@bibliometrie.info
SUMMARY:Workshop on Citation Extraction and Parsing (CiteX 2026)
DESCRIPTION:Accura­te and open citati­on data are essen­ti­al founda­ti­ons for trans­pa­rent\, repro­du­ci­b­le\, and network­ed scholar­ship. The Workshop on Citati­on Extra­c­tion and Parsing (CiteX 2026) provi­des an inter­di­sci­pli­na­ry forum for resear­chers\, develo­pers\, and practi­tio­ners to explo­re current advan­ces in the automa­ted identi­fi­ca­ti­on\, struc­tu­ring\, and disse­mi­na­ti­on of biblio­gra­phic references. \nSubmis­si­on deadline: 15. January 2026 \nCiteX-CfP
URL:https://bibliometrie.info/event/workshop-on-citation-extraction-and-parsing-citex-2026/
LOCATION:DIPF | Leibniz Insti­tu­te of Research and Infor­ma­ti­on in  Education\, Rostocker Straße 6\, 60323 Frankfurt a. M.
END:VEVENT
END:VCALENDAR