BEGIN:VCALENDAR
VERSION:2.0
PRODID:-//Kompetenznetzwerk Bibliometrie - ECPv6.15.3//NONSGML v1.0//EN
CALSCALE:GREGORIAN
METHOD:PUBLISH
X-WR-CALNAME:Kompetenznetzwerk Bibliometrie
X-ORIGINAL-URL:https://bibliometrie.info
X-WR-CALDESC:Veranstaltungen für Kompetenznetzwerk Bibliometrie
REFRESH-INTERVAL;VALUE=DURATION:PT1H
X-Robots-Tag:noindex
X-PUBLISHED-TTL:PT1H
BEGIN:VTIMEZONE
TZID:Europe/Berlin
BEGIN:DAYLIGHT
TZOFFSETFROM:+0100
TZOFFSETTO:+0200
TZNAME:CEST
DTSTART:20250330T010000
END:DAYLIGHT
BEGIN:STANDARD
TZOFFSETFROM:+0200
TZOFFSETTO:+0100
TZNAME:CET
DTSTART:20251026T010000
END:STANDARD
END:VTIMEZONE
BEGIN:VEVENT
DTSTART;TZID=Europe/Berlin:20251217T150000
DTEND;TZID=Europe/Berlin:20251217T160000
DTSTAMP:20260424T193710
CREATED:20251202T082005Z
LAST-MODIFIED:20251220T092356Z
UID:6107-1765983600-1765987200@bibliometrie.info
SUMMARY:Offenes Forschungsseminar: How to read network maps?
DESCRIPTION:Mathieu Jacomy\, PhD \nAssistant Profes­sor Depart­ment of Cultu­re and Learning\, the Techno-Anthro­po­lo­gy Lab \nAalborg Univer­si­tet \nPräsen­ta­ti­on \nVNA – Practi­cal Recipe
URL:https://bibliometrie.info/event/open-research-seminar-how-to-read-network-maps/
CATEGORIES:Forschungsseminar,Webinar
END:VEVENT
END:VCALENDAR